BEGIN:VCALENDAR
VERSION:2.0
PRODID:-//Lakeridge Run Neighborhood Association - ECPv6.15.20//NONSGML v1.0//EN
CALSCALE:GREGORIAN
METHOD:PUBLISH
X-WR-CALNAME:Lakeridge Run Neighborhood Association
X-ORIGINAL-URL:https://lakeridgerun.com
X-WR-CALDESC:Events for Lakeridge Run Neighborhood Association
REFRESH-INTERVAL;VALUE=DURATION:PT1H
X-Robots-Tag:noindex
X-PUBLISHED-TTL:PT1H
BEGIN:VTIMEZONE
TZID:America/Chicago
BEGIN:DAYLIGHT
TZOFFSETFROM:-0600
TZOFFSETTO:-0500
TZNAME:CDT
DTSTART:20250309T080000
END:DAYLIGHT
BEGIN:STANDARD
TZOFFSETFROM:-0500
TZOFFSETTO:-0600
TZNAME:CST
DTSTART:20251102T070000
END:STANDARD
BEGIN:DAYLIGHT
TZOFFSETFROM:-0600
TZOFFSETTO:-0500
TZNAME:CDT
DTSTART:20260308T080000
END:DAYLIGHT
BEGIN:STANDARD
TZOFFSETFROM:-0500
TZOFFSETTO:-0600
TZNAME:CST
DTSTART:20261101T070000
END:STANDARD
BEGIN:DAYLIGHT
TZOFFSETFROM:-0600
TZOFFSETTO:-0500
TZNAME:CDT
DTSTART:20270314T080000
END:DAYLIGHT
BEGIN:STANDARD
TZOFFSETFROM:-0500
TZOFFSETTO:-0600
TZNAME:CST
DTSTART:20271107T070000
END:STANDARD
END:VTIMEZONE
BEGIN:VEVENT
DTSTART;TZID=America/Chicago:20260126T060000
DTEND;TZID=America/Chicago:20260126T170000
DTSTAMP:20260420T110459
CREATED:20260127T024003Z
LAST-MODIFIED:20260127T024102Z
UID:1078-1769407200-1769446800@lakeridgerun.com
SUMMARY:Big Trash Pickup
DESCRIPTION:Trash may be placed at curb no earlier than Friday before.
URL:https://lakeridgerun.com/event/big-trash-pickup-3/
END:VEVENT
END:VCALENDAR